BEGIN:VCALENDAR
VERSION:2.0
PRODID:-//Chatterjee &amp; Lal - ECPv6.2.3.2//NONSGML v1.0//EN
CALSCALE:GREGORIAN
METHOD:PUBLISH
X-WR-CALNAME:Chatterjee &amp; Lal
X-ORIGINAL-URL:https://chatterjeeandlal.com
X-WR-CALDESC:Events for Chatterjee &amp; Lal
REFRESH-INTERVAL;VALUE=DURATION:PT1H
X-Robots-Tag:noindex
X-PUBLISHED-TTL:PT1H
BEGIN:VTIMEZONE
TZID:UTC
BEGIN:STANDARD
TZOFFSETFROM:+0000
TZOFFSETTO:+0000
TZNAME:UTC
DTSTART:20230101T000000
END:STANDARD
END:VTIMEZONE
BEGIN:VEVENT
DTSTART;TZID=UTC:20230415T120000
DTEND;TZID=UTC:20230507T190000
DTSTAMP:20260419T173734
CREATED:20230412T091307Z
LAST-MODIFIED:20230412T091307Z
UID:4453-1681560000-1683486000@chatterjeeandlal.com
SUMMARY:The House Style: Culture of the Expanded Book
DESCRIPTION:C&L Design presents The House Style: Culture of the Expanded Book\, bringing together a range of important India-based publishing houses and self-published authors. In addition to presenting an array of books focussed on arts and culture\, the exhibition also pays particularly attention to publishing projects that have been informed by\, or have provided impetus to\, objects and artworks in other media: this includes film\, photography\, painting\, prints\, sculpture\, soundscapes\, even performance. The sheer diversity of material presented indicates the vibrancy and experimental nature of expanded book culture in India at present. \nThe House Style is the second time C&L has looked to the world of books and book design. In 2016\, Rukminee Guha Thakurta curated Zones of Privacy\, bringing together both self-published publications and distributed editions.
URL:https://chatterjeeandlal.com/event/the-house-style-culture-of-the-expanded-book/
LOCATION:47-A: Design Gallery\, 47-A\, Kotachi Wadi\, Ambewadi\, Girgaon\, Mumbai 400 004.\, India
ATTACH;FMTTYPE=image/png:https://chatterjeeandlal.com/wp-content/uploads/2023/04/47-A-WhatsApp-Invite.png
END:VEVENT
BEGIN:VEVENT
DTSTART;TZID=UTC:20230518T120000
DTEND;TZID=UTC:20230604T190000
DTSTAMP:20260419T173734
CREATED:20230516T133418Z
LAST-MODIFIED:20230518T114221Z
UID:4460-1684411200-1685905200@chatterjeeandlal.com
SUMMARY:Do Hands Have a Chance? K.G. Subramanyan and Design
DESCRIPTION:K.G. Subramanyan (1924–2016) was a force of nature\, and over a six-decade career in art\, craft and design—both as a practitioner and educator—his impact on the cultural sphere has been immense. On the eve of his birth centenary\, C&L Design presents Do Hands Have a Chance? — an experimental two-part exhibition\, the first of many commemorative events planned across the country in the year to come. \nThe exhibition includes a selection of Subramanyan’s work with textiles\, books and toys\, and views his practice through a design-historical lens.\nIn 1958\, the Weavers’ Service Centre opened at Opera House—a five-minute walk from 47-A—where\, in its early stages\, Subramanyan worked for one and half years. The exhibition at 47-A includes newly discovered material comprising some of his designs done for the Centre.\nIn 1962\, when he returned to teach at the MS University in Baroda\, Subramanyan was instrumental in founding the Fine Arts Faculty’s annual fair\, for which he designed the first of his toys\, a prime example of his desire to collapse boundaries between activities that promoted working with one’s hands. It was also for the fairs that Subramanyan began to experiment with illustrations for books\, often aimed at children\, a facet of his practice that would reveal itself more forcefully in the decades to come. \nIn June 2023\, an exhibition of the artist’s work at Chatterjee & Lal’s Colaba gallery will display objects drawn from similar sources but\, this time\, curated from an art-historical perspective. \nThe purpose: to celebrate the pioneering ideas of Subramanyan around the production\, the dissemination and the consumption of art\, craft and design in India. \nC&L Design\, Chatterjee & Lal\, Seagull Foundation for the Arts.
URL:https://chatterjeeandlal.com/event/do-hands-have-a-chance-k-g-subramanyan-and-design/
LOCATION:47-A: Design Gallery\, 47-A\, Kotachi Wadi\, Ambewadi\, Girgaon\, Mumbai 400 004.\, India
ATTACH;FMTTYPE=image/jpeg:https://chatterjeeandlal.com/wp-content/uploads/2023/05/1967_KGS_1967_PREPARATION-FOR-FAIR-AT-FACULTY-OF-FINE-ART-_VADODARA_BNG5_JB1.jpg
END:VEVENT
END:VCALENDAR