BEGIN:VCALENDAR
VERSION:2.0
PRODID:-//Chatterjee &amp; Lal - ECPv6.2.3.2//NONSGML v1.0//EN
CALSCALE:GREGORIAN
METHOD:PUBLISH
X-WR-CALNAME:Chatterjee &amp; Lal
X-ORIGINAL-URL:https://chatterjeeandlal.com
X-WR-CALDESC:Events for Chatterjee &amp; Lal
REFRESH-INTERVAL;VALUE=DURATION:PT1H
X-Robots-Tag:noindex
X-PUBLISHED-TTL:PT1H
BEGIN:VTIMEZONE
TZID:UTC
BEGIN:STANDARD
TZOFFSETFROM:+0000
TZOFFSETTO:+0000
TZNAME:UTC
DTSTART:20200101T000000
END:STANDARD
END:VTIMEZONE
BEGIN:VEVENT
DTSTART;TZID=UTC:20201126T170000
DTEND;TZID=UTC:20201203T220000
DTSTAMP:20260424T111325
CREATED:20201125T125611Z
LAST-MODIFIED:20201125T125611Z
UID:3710-1606410000-1607032800@chatterjeeandlal.com
SUMMARY:Screening | Squeeze Lime in Your Eye
DESCRIPTION:SQUEEZE LIME IN YOUR EYE\nA film on Kausik Mukhopadhyay by Avijit Mukul Kishore. Associate Director: Rohan Shivkumar. \nWatch it exclusively on Chatterjee & Lal ‘s YouTube channel 26th November to 3rd December: \n‘Squeeze Lime in Your Eye’ is a documentary film about the inimitable artist Kausik Mukhopadhyay. His art works exist on the peculiar intersection of machine\, toy and organism. Made out of discarded and disassembled household gadgets\, they have distinct personalities and quirks. They are noisy\, humorous and fragile. They invite the viewer to engage and complete the narratives embedded within them. \nThis film builds on two decades of friendship between the artist Kausik Mukhopadhyay\, filmmaker Avijit Mukul Kishore and architect Rohan Shivkumar. It follows Mukhopadhyay’s journey as a student at Kalabhavana Santiniketan\, through his time as a fellow at Kanoria Centre for Art\, Ahmedabad\, to his practice as an artist and teacher in Mumbai. The film attempts to embody the form of Mukhopadhyay’s artworks\, built out of fragments of incongruous material and a repurposing of one’s own earlier work. What emerges is a tale as tender and quirky as the artist’s art works. \nEnglish and Hindi (with English subtitles)\, Colour\, 57 min\, 2018\nProduced by Public Service Broadcasting Trust
URL:https://chatterjeeandlal.com/event/screening-squeeze-lime-in-your-eye/
ATTACH;FMTTYPE=image/jpeg:https://chatterjeeandlal.com/wp-content/uploads/2020/11/Website-Banner.jpg
END:VEVENT
BEGIN:VEVENT
DTSTART;VALUE=DATE:20201216
DTEND;VALUE=DATE:20201217
DTSTAMP:20260424T111325
CREATED:20201212T094400Z
LAST-MODIFIED:20201212T140956Z
UID:3731-1608076800-1608163199@chatterjeeandlal.com
SUMMARY:Short Notice | Nityan Unnikrishnan | IN Touch Edition 5
DESCRIPTION:Chatterjee & Lal is delighted to present Short Notice\, works by Nityan Unnikrishnan for IN Touch Edition 5. \nJoin us on Wednesday\, 16th Dec 2020 on www.artintouch.in. \nIN Touch is a collaborative platform created in partnership between galleries to present online exhibitions.
URL:https://chatterjeeandlal.com/event/short-notice-nityan-unnikrishnan-in-touch-edition-5/
ATTACH;FMTTYPE=image/jpeg:https://chatterjeeandlal.com/wp-content/uploads/2020/12/InTouch-Ed5.jpeg
END:VEVENT
BEGIN:VEVENT
DTSTART;TZID=UTC:20201216T180000
DTEND;TZID=UTC:20201216T190000
DTSTAMP:20260424T111325
CREATED:20201214T052929Z
LAST-MODIFIED:20201214T052929Z
UID:3735-1608141600-1608145200@chatterjeeandlal.com
SUMMARY:In Touch Edition 5 | Gallerists Live
DESCRIPTION:Register here to watch the introduction to In Touch Edition 5 and gallerists present a short overview of their In Touch edition 5 presentations
URL:https://chatterjeeandlal.com/event/in-touch-edition-5-gallerists-live/
CATEGORIES:Presentation
ATTACH;FMTTYPE=image/png:https://chatterjeeandlal.com/wp-content/uploads/2020/12/2020-In-Touch-_-Invite-_-Ed-5_Gallerists-Live.-with-Gallery-Names.png
END:VEVENT
BEGIN:VEVENT
DTSTART;TZID=UTC:20201219T180000
DTEND;TZID=UTC:20201219T193000
DTSTAMP:20260424T111325
CREATED:20201212T085401Z
LAST-MODIFIED:20201212T092934Z
UID:3729-1608400800-1608406200@chatterjeeandlal.com
SUMMARY:Textiles of Banaras
DESCRIPTION:Visit Bangalore International Centre’s website here \nRegister for the sessions here: \nArt of Gold- https://us02web.zoom.us/webinar/register/7016076833342/WN_a2P8HLkzQmaafn8ugCtDYQ\nCulturebagh- https://us02web.zoom.us/webinar/register/2816075398059/WN_a2P8HLkzQmaafn8ugCtDYQ\nYarn Club- https://us02web.zoom.us/webinar/register/4716075398127/WN_a2P8HLkzQmaafn8ugCtDYQ\n  \nThe luxurious\, handwoven brocades of Banaras (Varanasi) have held the imagination of India and the world for a long time. By the late 19th-century\, these had emerged as among the most fashionable of fabrics worn across the subcontinent. Till date\, the city remains one of the country’s most prominent handloom centres\, constantly innovating with new materials and aesthetic sensibilities. In this illustrated lecture\, Delhi-based writer and curator Mayank Mansingh Kaul will present the many traditions and techniques which define hand weaving in Banaras such as Rangkaat\, Tanchoi\, Jamdani and the Gyaser. Focussing on the period from the early 20th century to now\, he will discuss how they have been shaped by a wide range of influences\, from other parts of the country to Europe and Asia. \nPresented by The Art of Gold- Art of Gold is a series of lectures\, symposia and events initiated by Swati & Sunaina Gold\, to generate artistic dialogues on the various artistic forms of gold. \n  \nIn collaboration with the Culturebagh & Yarn Club: \n \nCulturebagh is a platform to encourage cross-disciplinary discourse. It is supported by Chatterjee & Lal\, a Mumbai-based gallery for contemporary art and historical material. \n \nThe Yarn Club is an initiative by Apparao Galleries that curates talks and activities that explore the  rich heritage of the textile traditions of India. It is a platform to share developments and meet other textile enthusiasts while keeping abreast of policy changes and being inspired by the magic of the textiles of India. \n  \nImage Credits- Swati & Sunaina Gold
URL:https://chatterjeeandlal.com/event/textiles-of-banaras/
LOCATION:Zoom\, Online\, India
CATEGORIES:Culturebagh,Presentation,Webinar
ATTACH;FMTTYPE=image/jpeg:https://chatterjeeandlal.com/wp-content/uploads/2020/12/posterwith-Website.jpg
END:VEVENT
END:VCALENDAR