BEGIN:VCALENDAR
VERSION:2.0
PRODID:-//Chatterjee &amp; Lal - ECPv6.2.3.2//NONSGML v1.0//EN
CALSCALE:GREGORIAN
METHOD:PUBLISH
X-ORIGINAL-URL:https://chatterjeeandlal.com
X-WR-CALDESC:Events for Chatterjee &amp; Lal
REFRESH-INTERVAL;VALUE=DURATION:PT1H
X-Robots-Tag:noindex
X-PUBLISHED-TTL:PT1H
BEGIN:VTIMEZONE
TZID:UTC
BEGIN:STANDARD
TZOFFSETFROM:+0000
TZOFFSETTO:+0000
TZNAME:UTC
DTSTART:20200101T000000
END:STANDARD
END:VTIMEZONE
BEGIN:VEVENT
DTSTART;VALUE=DATE:20200801
DTEND;VALUE=DATE:20201002
DTSTAMP:20260424T161309
CREATED:20200801T102808Z
LAST-MODIFIED:20200801T103827Z
UID:3601-1596240000-1601596799@chatterjeeandlal.com
SUMMARY:Inlaks Fine Art Award 2021
DESCRIPTION:The Inlaks India Foundation invites applications for the selection of Inlaks Fine Art Awards 2021. \nDeadline: 1st October\, 2020 \nThe award is intended to help young artists in their formative years to develop their creative talent. It provides financial assistance to enable them to work independently anywhere in India. \nABOUT THE AWARD: \n\nThe Award is worth Rs.3\, 00\,000/- (Three lakhs only) for a period of one year.\nThe awardee will have to attend an art residency programme within India for a period of 4 weeks during the course of the year.\n\nELIGIBILITY: \n\nThe applicant for this award should be a young emerging artist under the age of 30 (by 31st December in the year of application).\nThe applicant may be a recent graduate/post-graduate or a final year student from a leading Indian institute for visual arts in India. No student of a first year master’s programme will be considered.\nThe recipient should not be holding a similar/ government scholarship or award during the same tenure.\nIf the candidate has applied for the award earlier\, he/she must submit a new body of work if they reapply.\nIn the case of an applicant not having a formal degree in the visual arts\, it is desirable that he/she would have participated in organized art exhibitions.\nThe applicant for this award must be an Indian citizen\, currently resident in India.\n\nThe applications may be sent to the following email: gladys@inlaksfoundation.org \nDOWNLOAD APPLICATION FORM \nThe downloaded application form may be filled in by hand or by type. \nThe subject line should read as: Fine Art Award 2021
URL:https://chatterjeeandlal.com/event/inlaks-fine-art-award-2021/
END:VEVENT
END:VCALENDAR