BEGIN:VCALENDAR
VERSION:2.0
PRODID:-//Chatterjee &amp; Lal - ECPv6.2.3.2//NONSGML v1.0//EN
CALSCALE:GREGORIAN
METHOD:PUBLISH
X-ORIGINAL-URL:https://chatterjeeandlal.com
X-WR-CALDESC:Events for Chatterjee &amp; Lal
REFRESH-INTERVAL;VALUE=DURATION:PT1H
X-Robots-Tag:noindex
X-PUBLISHED-TTL:PT1H
BEGIN:VTIMEZONE
TZID:UTC
BEGIN:STANDARD
TZOFFSETFROM:+0000
TZOFFSETTO:+0000
TZNAME:UTC
DTSTART:20200101T000000
END:STANDARD
END:VTIMEZONE
BEGIN:VEVENT
DTSTART;VALUE=DATE:20200131
DTEND;VALUE=DATE:20200203
DTSTAMP:20260425T111003
CREATED:20200120T134921Z
LAST-MODIFIED:20200120T135129Z
UID:3290-1580428800-1580687999@chatterjeeandlal.com
SUMMARY:India Art Fair 2020
DESCRIPTION:Come visit us at C-2! We look forward to meeting as many people as possible during the India Art Fair 2020.
URL:https://chatterjeeandlal.com/event/india-art-fair-2020/
ATTACH;FMTTYPE=image/jpeg:https://chatterjeeandlal.com/wp-content/uploads/2020/01/CL-16.jpg
END:VEVENT
BEGIN:VEVENT
DTSTART;VALUE=DATE:20200229
DTEND;VALUE=DATE:20200301
DTSTAMP:20260425T111003
CREATED:20191230T100224Z
LAST-MODIFIED:20200215T145725Z
UID:3278-1582934400-1583020799@chatterjeeandlal.com
SUMMARY:Culturebagh x G5A | Riten Mozumdar
DESCRIPTION:One day symposium consisting of keynote\, masterclass\, talks\, and panel discussions on life and times of Riten Mozumdar at G5A Foundation for Contemporary Culture\, Laxmi Mills Estate. \nAbout Culturebagh x G5A \nThe Culturebagh x G5A collaboration brings exciting programming from the visual arts ecosystem. Presented in the form of lectures\, panel discussions and masterclasses\, our aim is to demystify\, broaden and deepen our understanding of the medium. We are particularly interested in developing an interdisciplinary approach in order to position the visual arts in the broader context of contemporary art. \nG5A has consciously provided an entry into the arts for diverse audiences; from the committed to the uninitiated. Given that G5A’s DNA is hardwired to be both multidisciplinary and interdisciplinary\, this collaboration is a natural outcome. \nCulturebagh is an initiative supported by Chatterjee & Lal\, a Mumbai-based gallery for contemporary art and historical material. \n  \n                       
URL:https://chatterjeeandlal.com/event/riten-mozumdar-culturebagh/
LOCATION:G5A\, G-5/A\, Laxmi Mills Estate\, Shakti Mills Ln\, Mahalaxmi West\, \, Mumbai\, Maharashtra\, 400011\, India
ATTACH;FMTTYPE=image/jpeg:https://chatterjeeandlal.com/wp-content/uploads/2019/12/RM-image-from-Tim-Prentice-archives.jpg
END:VEVENT
END:VCALENDAR