BEGIN:VCALENDAR
VERSION:2.0
PRODID:-//Chatterjee &amp; Lal - ECPv6.2.3.2//NONSGML v1.0//EN
CALSCALE:GREGORIAN
METHOD:PUBLISH
X-WR-CALNAME:Chatterjee &amp; Lal
X-ORIGINAL-URL:https://chatterjeeandlal.com
X-WR-CALDESC:Events for Chatterjee &amp; Lal
REFRESH-INTERVAL;VALUE=DURATION:PT1H
X-Robots-Tag:noindex
X-PUBLISHED-TTL:PT1H
BEGIN:VTIMEZONE
TZID:UTC
BEGIN:STANDARD
TZOFFSETFROM:+0000
TZOFFSETTO:+0000
TZNAME:UTC
DTSTART:20190101T000000
END:STANDARD
END:VTIMEZONE
BEGIN:VEVENT
DTSTART;VALUE=DATE:20191114
DTEND;VALUE=DATE:20191115
DTSTAMP:20260425T161147
CREATED:20191012T100808Z
LAST-MODIFIED:20191123T090055Z
UID:3168-1573689600-1573775999@chatterjeeandlal.com
SUMMARY:Rustom Siodia
DESCRIPTION:  \nRustom Siodia\, born in the late 19th Century\, was an artist\, poet\, and essayist. Having attended JJ School of Art in Bombay\, he was the first ever Parsi to study at London’s Royal Academy. Living between India and England\, he went on to forge a career that spanned the painting traditions of portraiture\, landscape\, history and the allegoric. \nThis exhibition is the first in-depth retrospective of Siodia’s practice since his death in 1946.
URL:https://chatterjeeandlal.com/event/rustom-siodia/
LOCATION:Chatterjee & Lal\, India
END:VEVENT
END:VCALENDAR