BEGIN:VCALENDAR
VERSION:2.0
PRODID:-//Chatterjee &amp; Lal - ECPv6.2.3.2//NONSGML v1.0//EN
CALSCALE:GREGORIAN
METHOD:PUBLISH
X-WR-CALNAME:Chatterjee &amp; Lal
X-ORIGINAL-URL:https://chatterjeeandlal.com
X-WR-CALDESC:Events for Chatterjee &amp; Lal
REFRESH-INTERVAL;VALUE=DURATION:PT1H
X-Robots-Tag:noindex
X-PUBLISHED-TTL:PT1H
BEGIN:VTIMEZONE
TZID:UTC
BEGIN:STANDARD
TZOFFSETFROM:+0000
TZOFFSETTO:+0000
TZNAME:UTC
DTSTART:20200101T000000
END:STANDARD
END:VTIMEZONE
BEGIN:VEVENT
DTSTART;TZID=UTC:20200627T170000
DTEND;TZID=UTC:20200627T180000
DTSTAMP:20260422T010917
CREATED:20200620T175949Z
LAST-MODIFIED:20210823T124146Z
UID:3525-1593277200-1593280800@chatterjeeandlal.com
SUMMARY:Live studio session with Sahej Rahal
DESCRIPTION:Join us for an online presentation with Sahej Rahal on Saturday\, 27 June at 5 pm. \nThe session can be accessed on our Facebook page and YouTube channel:\nFacebook.com/chatterjeeandlal\nhttps://tinyurl.com/chatterjeeandlal \nSahej is primarily a storyteller. His stories weave together fact and fiction\, to create counter-mythologies that interrogate the dominant mythologies shaping the present. This myth-world takes the shape of sculptures\, performances\, films\, paintings\, installations\, and AI programs. \nIn the virtual studio session\, Sahej will trace the formation of the ‘non-human’\, from the mythological relationship of demons and disease\, to futuristic worlds inhabited by artificial intelligence.\n#sahejrahal #chatterjeeandlal #culturebagh \n  \n 
URL:https://chatterjeeandlal.com/event/studio-session-with-sahej-rahal/
LOCATION:Unnamed Venue\, Online
CATEGORIES:Culturebagh,Presentation,Workshop
END:VEVENT
END:VCALENDAR