BEGIN:VCALENDAR
VERSION:2.0
PRODID:-//Chatterjee &amp; Lal - ECPv6.2.3.2//NONSGML v1.0//EN
CALSCALE:GREGORIAN
METHOD:PUBLISH
X-ORIGINAL-URL:https://chatterjeeandlal.com
X-WR-CALDESC:Events for Chatterjee &amp; Lal
REFRESH-INTERVAL;VALUE=DURATION:PT1H
X-Robots-Tag:noindex
X-PUBLISHED-TTL:PT1H
BEGIN:VTIMEZONE
TZID:UTC
BEGIN:STANDARD
TZOFFSETFROM:+0000
TZOFFSETTO:+0000
TZNAME:UTC
DTSTART:20220101T000000
END:STANDARD
END:VTIMEZONE
BEGIN:VEVENT
DTSTART;TZID=UTC:20221108T110000
DTEND;TZID=UTC:20221115T190000
DTSTAMP:20260420T105454
CREATED:20221105T120914Z
LAST-MODIFIED:20221110T085211Z
UID:4260-1667905200-1668538800@chatterjeeandlal.com
SUMMARY:Nikhil Chopra: Lands\, Waters\, and Skies
DESCRIPTION:We are delighted to announce a presentation at Chatterjee & Lal of the residues of Nikhil Chopra’s 2019 performance ‘Land\, Waters\, and Skies’. \nNikhil Chopra (born 1974) was The Met’s 2019-2020 Artist in Residence and he lived at The Met Fifth Avenue for nine continuous days in September 2019. \nChopra prepared for this performance over the course of more than a year. He immersed himself in the Met’s collection and its physical layout\, observing how audiences moved through the galleries. Chopra’s path during the performance inevitably traversed extraordinary spans of time and geography\, represented by the objects. The Met had displayed according to its own logic. He cut across fictional frontiers\, wandering from one place to another\, like a nomadic traveller\, carrying his own wares and materials\, observing and interacting with works of art that have been transferred from their original contexts. \nHis reflections on the histories of these objects and the stories of their acquisition by The Met was communicated through actions\, songs and the making of a monumental landscape. \nRolling out his bed each night and sleeping under camera surveillance\, Chopra connected the beat of his own pulse to the daily rhythm of the Museum. His itinerant path through the galleries would likewise echo the human displacement of past colonialism and present-day migration. \n  \nExcerpt by Shanay Jhaveri from the curatorial text.\nThe performance was curated by Shanay Jhaveri and Limor Tomer from The Met. \n  \nWatch The Met’s short film on the artist reflecting on the performance (starting at 4 mins 29 seconds): Click to view link.
URL:https://chatterjeeandlal.com/event/nikhil-chopra-lands-waters-and-skies/
LOCATION:Chatterjee & Lal\, India
ATTACH;FMTTYPE=image/jpeg:https://chatterjeeandlal.com/wp-content/uploads/2022/11/DSC03763.jpg
END:VEVENT
END:VCALENDAR