BEGIN:VCALENDAR
VERSION:2.0
PRODID:-//Chatterjee &amp; Lal - ECPv6.2.3.2//NONSGML v1.0//EN
CALSCALE:GREGORIAN
METHOD:PUBLISH
X-WR-CALNAME:Chatterjee &amp; Lal
X-ORIGINAL-URL:https://chatterjeeandlal.com
X-WR-CALDESC:Events for Chatterjee &amp; Lal
REFRESH-INTERVAL;VALUE=DURATION:PT1H
X-Robots-Tag:noindex
X-PUBLISHED-TTL:PT1H
BEGIN:VTIMEZONE
TZID:UTC
BEGIN:STANDARD
TZOFFSETFROM:+0000
TZOFFSETTO:+0000
TZNAME:UTC
DTSTART:20220101T000000
END:STANDARD
END:VTIMEZONE
BEGIN:VEVENT
DTSTART;TZID=UTC:20220219T101500
DTEND;TZID=UTC:20220508T180000
DTSTAMP:20260422T214602
CREATED:20220218T090031Z
LAST-MODIFIED:20220218T090238Z
UID:4127-1645265700-1652032800@chatterjeeandlal.com
SUMMARY:Sahej Rahal | Ancestors | Jehangir Nicholson Art Foundation\, CSMVS
DESCRIPTION:We are delighted to announce the opening of Sahej Rahal’s solo exhibition\, Ancestors (पू र्व ज) curated by Puja Vaish on occasion of the CSMVS Museum’s centenary at the Jehangir Nicholson Gallery. \nThe exhibition brings together an extensive body of Rahal’s work that resonates with the underpinnings of the Museum in telling stories of civilisations. \nAncestors stages sculptural installations\, drawings\, paintings\, writings\, performance and an AI programme as an archaeolgical tomb-site of the future. Visitors enter a make-believe crypt with imagined relics of a posthuman civilisation. \nUsing archaeology as a metaphor\, the Museum becomes a space to interrogate narratives that shape the world\, its inhabitants and belief systems through a consideration of the human\, ecological and digital imprints that are left behind. \nThis project was made possible by the support of The Sher-Gil Sundaram Arts Foundation (SSAF) Installation Art Grant 2019.
URL:https://chatterjeeandlal.com/event/sahej-rahal-ancestors-jehangir-nicholson-art-foundation-csmvs/
LOCATION:Jehangir Nicholson Art Foundation\, CSMVS\, East Wing\, Chhatrapati Shivaji Maharaj Vastu Sangrahalaya\, 159-161\, Mahatma Gandhi Road\, Kala Ghoda\, Fort\, Mumbai\, Maharashtra\, 400023\, India
ATTACH;FMTTYPE=image/jpeg:https://chatterjeeandlal.com/wp-content/uploads/2022/02/Sahej-Social-media1.jpg
END:VEVENT
END:VCALENDAR