BEGIN:VCALENDAR
VERSION:2.0
PRODID:-//Chatterjee &amp; Lal - ECPv6.2.3.2//NONSGML v1.0//EN
CALSCALE:GREGORIAN
METHOD:PUBLISH
X-WR-CALNAME:Chatterjee &amp; Lal
X-ORIGINAL-URL:https://chatterjeeandlal.com
X-WR-CALDESC:Events for Chatterjee &amp; Lal
REFRESH-INTERVAL;VALUE=DURATION:PT1H
X-Robots-Tag:noindex
X-PUBLISHED-TTL:PT1H
BEGIN:VTIMEZONE
TZID:UTC
BEGIN:STANDARD
TZOFFSETFROM:+0000
TZOFFSETTO:+0000
TZNAME:UTC
DTSTART:20220101T000000
END:STANDARD
END:VTIMEZONE
BEGIN:VEVENT
DTSTART;TZID=UTC:20220120T190000
DTEND;TZID=UTC:20220120T200000
DTSTAMP:20260423T052313
CREATED:20220118T080744Z
LAST-MODIFIED:20220118T080744Z
UID:4098-1642705200-1642708800@chatterjeeandlal.com
SUMMARY:IG LIVE: Ashish Avikunthak in conversation with Ashish Rajadhyaksha
DESCRIPTION:Join us this Thursday for an hour-long interaction between filmmaker and anthropologist Ashish Avikunthak and film and cultural theorist Ashish Rajadhyaksha as they discuss the current trends and state of Indian cinema\, the role of online streaming platforms\, issues surrounding censorship in films\, and plenty more. The session will also delve into Ashish Avikunthak’s filmmaking practice in India since the mid nineties. \n \nDate: Thursday\, 20 January 2022\nTime: 7:00 PM to 8:00 PM (IST)\nVenue: Instagram Live on the MUBI India (@mubiindia) and Chatterjee & Lal (@chatterjeeandlal) Instagram handles.
URL:https://chatterjeeandlal.com/event/ig-live-ashish-avikunthak-in-conversation-with-ashish-rajadhyaksha/
LOCATION:IG Live
ATTACH;FMTTYPE=image/jpeg:https://chatterjeeandlal.com/wp-content/uploads/2022/01/Ashish-Avikunthak-IG-Live_1080x1080.jpeg
END:VEVENT
END:VCALENDAR