BEGIN:VCALENDAR
VERSION:2.0
PRODID:-//Chatterjee &amp; Lal - ECPv6.2.3.2//NONSGML v1.0//EN
CALSCALE:GREGORIAN
METHOD:PUBLISH
X-WR-CALNAME:Chatterjee &amp; Lal
X-ORIGINAL-URL:https://chatterjeeandlal.com
X-WR-CALDESC:Events for Chatterjee &amp; Lal
REFRESH-INTERVAL;VALUE=DURATION:PT1H
X-Robots-Tag:noindex
X-PUBLISHED-TTL:PT1H
BEGIN:VTIMEZONE
TZID:UTC
BEGIN:STANDARD
TZOFFSETFROM:+0000
TZOFFSETTO:+0000
TZNAME:UTC
DTSTART:20210101T000000
END:STANDARD
END:VTIMEZONE
BEGIN:VEVENT
DTSTART;TZID=UTC:20211204T110000
DTEND;TZID=UTC:20220108T190000
DTSTAMP:20260423T075707
CREATED:20211204T084654Z
LAST-MODIFIED:20211204T114206Z
UID:4009-1638615600-1641668400@chatterjeeandlal.com
SUMMARY:Hetain Patel | Trinity: A Prologue
DESCRIPTION:In anticipation of the India release of Hetain Patel’s new film TRINITY at the gallery in January 2022\, we are pleased to open an exhibition of the artist’s existing work covering 18 years of practice\, much of which has never been seen before in the country. \nThe exhibition includes photography\, video and documentation of performance. \n\n\n\nSacred Bodies Series\nPhotographic prints\n2004/5 \n\n\nThe artist’s earliest work comprised photographic self-portraiture imbued with a performative element. In Sacred Bodies\, Patel focussed on pigments from rituals and ceremonies he grew up with as a child of South Asian parents based in the UK. These pigments are strong signifiers of his Indian identity. The Kanku and Mehndi works show the end result of self imposed rituals in which the artist took up to six hours to decorate his own body with these materials. The work entitled Gajra references wedding ceremonies and sees Patel wrapping his body with an exaggeratedly long garland\, going beyond adornment almost into restraint. \n\nBaa’s Gold 10\n2021\nDuration: 32 mins 53 secs\nCommissioned by The National Gallery\, London \n\n\nBaa’s Gold 10 recounts the story of the burglary of Hetain Patel’s ‘Baa’ – or grandmother in Gujarati – whilst at home in Bolton\, UK\, where she lived alone. In a pursuit for gold\, Patel’s Baa endured a violent ordeal at the hands of a gang of men who specifically targeted Hindu widows for their cultural tradition of only wearing gold jewellery. As the story is recounted multiple times in the form of a spoken screenplay by a group of performers\, Baa regains her own agency\, enacting revenge in the final version of the screenplay. \nPatel’s performances process events from his own biography through a range of media\, often recounting these stories in various ways. Patel presents his own domestic British Indian story in amongst the Western canon of art history as equally epic and fantastical\, using both the traditional act of live performance\, and the modern form of cinematic storytelling. \n\n\n\nDon’t Look: Hetain Patel & Amy May\n2021\nDuration: 59 mins 15 secs \n\n\nFrom epic Hollywood-like scores to Gujarati rap\, visual artist and performer Hetain Patel presents an evening of his film works with new music written and arranged by composer Amy May. Featured works include the U.S. premiere of Patel’s award-winning Afro Kung Fu spectacle\, Don’t Look at the Finger\, and the world premiere of new music by May as part of Patel’s film God is a DJ. \nHosted by Patel and May from the Genesis Cinema in London\, the evening is woven together with behind-the-scenes anecdotes and Patel’s unique brand of humour\, performance\, and politics. \nThis work was commissioned by Rich Mix and Sadler’s Wells London\, with support from Film and Video Umbrella. This work was adapted by Asia Society Museum\, New York for the inaugural Asia Society Triennial: “We Do Not Dream Alone” U.S. premiere.
URL:https://chatterjeeandlal.com/event/trinity-a-prologue-hetain-patel/
ATTACH;FMTTYPE=image/jpeg:https://chatterjeeandlal.com/wp-content/uploads/2021/12/2.-Mehndi-7.jpeg
END:VEVENT
END:VCALENDAR