BEGIN:VCALENDAR
VERSION:2.0
PRODID:-//Chatterjee &amp; Lal - ECPv6.2.3.2//NONSGML v1.0//EN
CALSCALE:GREGORIAN
METHOD:PUBLISH
X-ORIGINAL-URL:https://chatterjeeandlal.com
X-WR-CALDESC:Events for Chatterjee &amp; Lal
REFRESH-INTERVAL;VALUE=DURATION:PT1H
X-Robots-Tag:noindex
X-PUBLISHED-TTL:PT1H
BEGIN:VTIMEZONE
TZID:UTC
BEGIN:STANDARD
TZOFFSETFROM:+0000
TZOFFSETTO:+0000
TZNAME:UTC
DTSTART:20200101T000000
END:STANDARD
END:VTIMEZONE
BEGIN:VEVENT
DTSTART;VALUE=DATE:20201109
DTEND;VALUE=DATE:20201112
DTSTAMP:20260424T161117
CREATED:20201107T123257Z
LAST-MODIFIED:20201107T123257Z
UID:3678-1604880000-1605139199@chatterjeeandlal.com
SUMMARY:Special Screenings| Don't Look At The Finger | Hetain Patel
DESCRIPTION:We are delighted to be hosting special screenings of Hetain Patel’s short film ‘Don’t Look At The Finger’ at Chatterjee & Lal on 9th\, 10th & 11th of November. The film will be on loop between 12 noon to 5 pm. Drop by anytime! \nWe are hosting these screenings to celebrate Hetain win at Kino der Kunst 2020’s international competition for the best short film!! We are over the moon!\nThe jury included bigwigs Luca Guadagnino (Film Director)\, Beatrice Bulgari (Producer)\, Andrea Lissoni (Artistic Director Haus der Kunst)\, Camille Henrot (Artist). The line up of artists Hetain was up against is nothing short of scary – https://kinoderkunst.de/…/international-competition-2020/\nIn the last 18 months Hetain has won this prize as well as the Jarman Award 2019\, was selected for the British Art Show 9 and the Asia Society Triennial\, New York. During this period his work has been acquired by The Tate and the British Council Collection.\nPatel has a YouTube channel and his TEDGlobal talk in 2013 has had almost 3 million hits. Hetain is an artist who works with multiple mediums. He has presented live work\, and his films\, photography and sculpture have been exhibited and screened at institutions and non-profit organisations all over the UK\, including: Whitechapel Gallery\, Tate Modern\, Sadler’s Wells\, Barbican\, Southbank Centre\, Royal Opera House\, Manchester Art Gallery\, New Art Exchange\, mac\, QUAD\, and many more.\nHis collaborations with amazing artists on sound\, film\, costume\, choreography have enriched his career and brought him to where he is today. He has a loyal following of private collectors who eagerly await his outings and follow him on social media to keep up with his happenings.\nHetain is a fantastic artist who is disciplined and does so much that it is impossible to keep up!! His energy invigorates the gallery and constantly inspires us to do more. We are extremely proud of him!\n“It is Patel’s skilled precision in realising an almost seamless harmony of his culturally and historically divergent source material that gives his installations a distinctive resonance”\nThe Guardian\n#hetainpatel #kinoderkunst2020 #britishartshow9 #jarmanaward #jarmanaward2019 #filmlondon #chatterjeeandlal
URL:https://chatterjeeandlal.com/event/special-screenings-dont-look-at-the-finger-hetain-patel/
ATTACH;FMTTYPE=image/jpeg:https://chatterjeeandlal.com/wp-content/uploads/2020/11/16.jpg
END:VEVENT
END:VCALENDAR