BEGIN:VCALENDAR
VERSION:2.0
PRODID:-//Chatterjee &amp; Lal - ECPv6.2.3.2//NONSGML v1.0//EN
CALSCALE:GREGORIAN
METHOD:PUBLISH
X-ORIGINAL-URL:https://chatterjeeandlal.com
X-WR-CALDESC:Events for Chatterjee &amp; Lal
REFRESH-INTERVAL;VALUE=DURATION:PT1H
X-Robots-Tag:noindex
X-PUBLISHED-TTL:PT1H
BEGIN:VTIMEZONE
TZID:UTC
BEGIN:STANDARD
TZOFFSETFROM:+0000
TZOFFSETTO:+0000
TZNAME:UTC
DTSTART:20200101T000000
END:STANDARD
END:VTIMEZONE
BEGIN:VEVENT
DTSTART;VALUE=DATE:20200313
DTEND;VALUE=DATE:20200412
DTSTAMP:20260425T110904
CREATED:20200303T134339Z
LAST-MODIFIED:20200303T134402Z
UID:3391-1584057600-1586649599@chatterjeeandlal.com
SUMMARY:Heavy to Light | Light to Heavy
DESCRIPTION:Solo show by Mark Prime \nOn view: 13 March to 11 April 2020
URL:https://chatterjeeandlal.com/event/heavy-to-light-light-to-heavy/
LOCATION:Chatterjee & Lal\, India
END:VEVENT
END:VCALENDAR