BEGIN:VCALENDAR
VERSION:2.0
PRODID:-//Chatterjee &amp; Lal - ECPv6.2.3.2//NONSGML v1.0//EN
CALSCALE:GREGORIAN
METHOD:PUBLISH
X-ORIGINAL-URL:https://chatterjeeandlal.com
X-WR-CALDESC:Events for Chatterjee &amp; Lal
REFRESH-INTERVAL;VALUE=DURATION:PT1H
X-Robots-Tag:noindex
X-PUBLISHED-TTL:PT1H
BEGIN:VTIMEZONE
TZID:UTC
BEGIN:STANDARD
TZOFFSETFROM:+0000
TZOFFSETTO:+0000
TZNAME:UTC
DTSTART:20190101T000000
END:STANDARD
END:VTIMEZONE
BEGIN:VEVENT
DTSTART;VALUE=DATE:20190717
DTEND;VALUE=DATE:20190728
DTSTAMP:20260426T030939
CREATED:20190711T095241Z
LAST-MODIFIED:20190712T081205Z
UID:2989-1563321600-1564271999@chatterjeeandlal.com
SUMMARY:Ashish Avikunthak | Film Screenings | July 2019
DESCRIPTION:Ashish Avikunthak\nVrindavani Vairagya | Dispassionate Love \nSeminal moving image works 1999 – 2019\n17 JULY\n6.30 pm registration | 7 pm screening\nPREMIERE Virndavani Vairagya (Dispassionate Love)\, 2017\, DCP\, Color and B&W\, Bengali\, 91 minutes \n18 JULY\n11 – 6:30pm screenings in rotation\nVakratunda Swaha\, 2010\, 35mm\, Color and B/W\, Hindi\, 22 minutes\nKalighat Athikatha (Kalighat Fetish)\, 1999\, 16mm\, Color and B&W\, Bengali\, 22 minutes \n6.30 pm registration | 7 pm screening\nVirndavani Vairagya (Dispassionate Love)\, 2017\, DCP\, Color and B&W\, Bengali\, 91 minutes \nTill 27 JULY\n11 – 7 pm screenings in rotation\nVakratunda Swaha\, 2010\, 35mm\, Color and B/W\, Hindi\, 22 minutes\nKalighat Athikatha (Kalighat Fetish)\, 1999\, 16mm\, Color and B&W\, Bengali\, 22 minutes \n_ _ _ _ _ _ _ \nSpecial screenings of Virndavani Vairagya (Dispassionate Love) can be organised on request.\nVrindavani Ecatalogue
URL:https://chatterjeeandlal.com/event/ashish-avikunthak-film-screenings-july-2019/
LOCATION:Chatterjee & Lal\, India
END:VEVENT
END:VCALENDAR